BEGIN:VCALENDAR
VERSION:2.0
PRODID:-//Phaneroo - ECPv6.15.20//NONSGML v1.0//EN
CALSCALE:GREGORIAN
METHOD:PUBLISH
X-WR-CALNAME:Phaneroo
X-ORIGINAL-URL:https://www.phaneroo.org
X-WR-CALDESC:Events for Phaneroo
REFRESH-INTERVAL;VALUE=DURATION:PT1H
X-Robots-Tag:noindex
X-PUBLISHED-TTL:PT1H
BEGIN:VTIMEZONE
TZID:Africa/Kampala
BEGIN:STANDARD
TZOFFSETFROM:+0300
TZOFFSETTO:+0300
TZNAME:EAT
DTSTART:20230101T000000
END:STANDARD
END:VTIMEZONE
BEGIN:VEVENT
DTSTART;TZID=Africa/Kampala:20241012T130000
DTEND;TZID=Africa/Kampala:20241013T170000
DTSTAMP:20260423T152849
CREATED:20241011T051038Z
LAST-MODIFIED:20241011T051130Z
UID:94173-1728738000-1728838800@www.phaneroo.org
SUMMARY:South Africa Ignited Conference
DESCRIPTION:Manifest Fellowship SA invites you for the ”South Africa Ignited Conference 2024” with Apostle Grace Lubega on the 12th & 13th of October 2024.
URL:https://www.phaneroo.org/event/south-africa-ignited-conference/
LOCATION:Focus Rooms  Heaton Lane\, Focus Rooms Heaton Lane\, Longlake 20\, Modderfontein\, Lethabong Sandton\, Johannesburg\, 1096\, Sandton\, Johannesburg\, Gauteng\, 1096\, South Africa
ATTACH;FMTTYPE=image/jpeg:https://www.phaneroo.org/wp-content/uploads/2024/10/South-Africa.jpeg
END:VEVENT
END:VCALENDAR