BEGIN:VCALENDAR
VERSION:2.0
PRODID:-//Phaneroo - ECPv6.15.20//NONSGML v1.0//EN
CALSCALE:GREGORIAN
METHOD:PUBLISH
X-ORIGINAL-URL:https://www.phaneroo.org
X-WR-CALDESC:Events for Phaneroo
REFRESH-INTERVAL;VALUE=DURATION:PT1H
X-Robots-Tag:noindex
X-PUBLISHED-TTL:PT1H
BEGIN:VTIMEZONE
TZID:Africa/Kampala
BEGIN:STANDARD
TZOFFSETFROM:+0300
TZOFFSETTO:+0300
TZNAME:EAT
DTSTART:20230101T000000
END:STANDARD
END:VTIMEZONE
BEGIN:VEVENT
DTSTART;VALUE=DATE:20241018
DTEND;VALUE=DATE:20241021
DTSTAMP:20260423T155730
CREATED:20241011T045145Z
LAST-MODIFIED:20241011T053102Z
UID:94168-1729209600-1729468799@www.phaneroo.org
SUMMARY:Jinja Crusade
DESCRIPTION:Then He said to His disciples\, The harvest is indeed plentiful\, but the labourers are few. So pray to the Lord of the harvest to force out and thrust labourers into His harvest. (Matthew 9:37 – 38 AMPC) \nYou’re warmly invited for this life-changing event with Apostle Grace Lubega at Jinja Railway Grounds\, Jinja City from 18th to 19th October 2024. \nRevival has come to the East!
URL:https://www.phaneroo.org/event/jinja-crusade/
LOCATION:Jinja Railway Grounds\, Jinja Railway Grounds\, Jinja City\, Uganda
ATTACH;FMTTYPE=image/jpeg:https://www.phaneroo.org/wp-content/uploads/2024/10/Jinja-Crusade-e1728622723937.jpeg
END:VEVENT
END:VCALENDAR