BEGIN:VCALENDAR
VERSION:2.0
PRODID:-//Phaneroo - ECPv6.15.20//NONSGML v1.0//EN
CALSCALE:GREGORIAN
METHOD:PUBLISH
X-WR-CALNAME:Phaneroo
X-ORIGINAL-URL:https://www.phaneroo.org
X-WR-CALDESC:Events for Phaneroo
REFRESH-INTERVAL;VALUE=DURATION:PT1H
X-Robots-Tag:noindex
X-PUBLISHED-TTL:PT1H
BEGIN:VTIMEZONE
TZID:Africa/Kampala
BEGIN:STANDARD
TZOFFSETFROM:+0300
TZOFFSETTO:+0300
TZNAME:EAT
DTSTART:20250101T000000
END:STANDARD
END:VTIMEZONE
BEGIN:VEVENT
DTSTART;TZID=Africa/Kampala:20260124T110000
DTEND;TZID=Africa/Kampala:20260124T190000
DTSTAMP:20260422T031626
CREATED:20260112T100428Z
LAST-MODIFIED:20260121T120610Z
UID:118250-1769252400-1769281200@www.phaneroo.org
SUMMARY:🔥 THE INTER SCHOOLS CONFERENCE IV
DESCRIPTION:The 4th edition of the Inter Schools Conference with Apostle Grace Lubega is here. All upper primary and secondary school students plus those on vacation are warmly invited to this life-changing conference on Saturday\, 24th January 2026.
URL:https://www.phaneroo.org/event/the-inter-schools-conference-iv/
LOCATION:Phaneroo Grounds\, Phaneroo Grounds\, Kampala\, Uganda
ATTACH;FMTTYPE=image/png:https://www.phaneroo.org/wp-content/uploads/2026/01/TIC_web.png
END:VEVENT
END:VCALENDAR