BEGIN:VCALENDAR
VERSION:2.0
PRODID:-//Phaneroo - ECPv6.15.20//NONSGML v1.0//EN
CALSCALE:GREGORIAN
METHOD:PUBLISH
X-ORIGINAL-URL:https://www.phaneroo.org
X-WR-CALDESC:Events for Phaneroo
REFRESH-INTERVAL;VALUE=DURATION:PT1H
X-Robots-Tag:noindex
X-PUBLISHED-TTL:PT1H
BEGIN:VTIMEZONE
TZID:Africa/Kampala
BEGIN:STANDARD
TZOFFSETFROM:+0300
TZOFFSETTO:+0300
TZNAME:EAT
DTSTART:20250101T000000
END:STANDARD
END:VTIMEZONE
BEGIN:VEVENT
DTSTART;TZID=Africa/Kampala:20260307T080000
DTEND;TZID=Africa/Kampala:20260307T190000
DTSTAMP:20260422T045224
CREATED:20260217T065419Z
LAST-MODIFIED:20260217T065606Z
UID:118938-1772870400-1772910000@www.phaneroo.org
SUMMARY:MenGather Season IX
DESCRIPTION:The Doors of Greatness swing on the hinges of Men of Vision\n\n\n\n\n\n\nHistory is a biography of great men! No great man ever soared on the wings of achievement without drinking from the fountain of wisdom. No deeper wisdom has been given to mankind than what is in the precepts of the Word of God \n\n\nWhen we gather as men; fathers\, sons and brothers\, it is to sharpen each other against the double edged sword of the Holy Scriptures. For how can we penetrate the barriers of complacency without this sharpness? How can we win in the arena of responsibility without this sharpness? \nWe gather because we understand that our mandate is not just for a nation but for a generation! We see the future as our responsibility because we understand that we did not inherit the earth from our fathers\, we borrowed it from our children. \n\n\n\n\n\n\nSo I implore you to give your faith free reign. I urge you to rise up in courage\, lose sight of the shore so that you can explore new seas. I beseech you to  stretch your vision beyond the bounds of possibilities as we pioneer a generation of truly great men.
URL:https://www.phaneroo.org/event/mengather-season-ix/
LOCATION:Phaneroo Grounds\, Phaneroo Grounds\, Kampala\, Uganda
ATTACH;FMTTYPE=image/jpeg:https://www.phaneroo.org/wp-content/uploads/2026/02/MGather_Website-Banner-2048x759-1.jpg
END:VEVENT
BEGIN:VEVENT
DTSTART;TZID=Africa/Kampala:20260613T080000
DTEND;TZID=Africa/Kampala:20260613T190000
DTSTAMP:20260422T045224
CREATED:20260330T103559Z
LAST-MODIFIED:20260330T103655Z
UID:119678-1781337600-1781377200@www.phaneroo.org
SUMMARY:My Great Price Season VIII
DESCRIPTION:The greatest achievers\, nations and institutions are fruits of potent wombs — women who recognized the potential within them\, envisioned what must come forth\, and diligently nurtured those seeds to greatness\, regardless of the cost.\nJoin us on Saturday\, 13th June 2026 for the greatest gathering of women in the world\, My Great Price\, 2026\, Phaneroo Grounds\, Naguru.\nGates open at 8am | FREE ENTRY.
URL:https://www.phaneroo.org/event/my-great-price-season-viii/
LOCATION:Phaneroo Grounds\, Phaneroo Grounds\, Kampala\, Uganda
ATTACH;FMTTYPE=image/jpeg:https://www.phaneroo.org/wp-content/uploads/2026/03/MGPVIII_web.jpg.jpeg
END:VEVENT
END:VCALENDAR