BEGIN:VCALENDAR
VERSION:2.0
PRODID:-//Phaneroo - ECPv6.15.20//NONSGML v1.0//EN
CALSCALE:GREGORIAN
METHOD:PUBLISH
X-WR-CALNAME:Phaneroo
X-ORIGINAL-URL:https://www.phaneroo.org
X-WR-CALDESC:Events for Phaneroo
REFRESH-INTERVAL;VALUE=DURATION:PT1H
X-Robots-Tag:noindex
X-PUBLISHED-TTL:PT1H
BEGIN:VTIMEZONE
TZID:Africa/Kampala
BEGIN:STANDARD
TZOFFSETFROM:+0300
TZOFFSETTO:+0300
TZNAME:EAT
DTSTART:20230101T000000
END:STANDARD
END:VTIMEZONE
BEGIN:VEVENT
DTSTART;TZID=Africa/Kampala:20241109T120000
DTEND;TZID=Africa/Kampala:20241109T170000
DTSTAMP:20260423T011011
CREATED:20241011T052442Z
LAST-MODIFIED:20241011T052619Z
UID:94182-1731153600-1731171600@www.phaneroo.org
SUMMARY:Global Inter-University Conference
DESCRIPTION:To restore His divine order\, God has made the anointing available for our generation to draw from His full counsel and delve into His bottomless and endless possibilities. \nJoin us on Saturday 9th November 2024 at Phaneroo Grounds\, Naguru for the GLOBAL INTER-UNIVERSITY CONFERENCE with Apostle Grace Lubega. \n#GIC2024\n#RevivalFire
URL:https://www.phaneroo.org/event/gic/
LOCATION:Phaneroo Grounds\, Phaneroo Grounds\, Kampala\, Uganda
ATTACH;FMTTYPE=image/jpeg:https://www.phaneroo.org/wp-content/uploads/2024/10/gic.jpg
END:VEVENT
END:VCALENDAR